BEGIN:VCALENDAR
VERSION:2.0
PRODID:-//Eristea | Premium Loose Tea from around the world - ECPv6.13.2.1//NONSGML v1.0//EN
CALSCALE:GREGORIAN
METHOD:PUBLISH
X-WR-CALNAME:Eristea | Premium Loose Tea from around the world
X-ORIGINAL-URL:https://eristea.com
X-WR-CALDESC:Events for Eristea | Premium Loose Tea from around the world
REFRESH-INTERVAL;VALUE=DURATION:PT1H
X-Robots-Tag:noindex
X-PUBLISHED-TTL:PT1H
BEGIN:VTIMEZONE
TZID:America/Vancouver
BEGIN:DAYLIGHT
TZOFFSETFROM:-0800
TZOFFSETTO:-0700
TZNAME:PDT
DTSTART:20260308T100000
END:DAYLIGHT
BEGIN:STANDARD
TZOFFSETFROM:-0700
TZOFFSETTO:-0800
TZNAME:PST
DTSTART:20261101T090000
END:STANDARD
END:VTIMEZONE
BEGIN:VEVENT
DTSTART;TZID=America/Vancouver:20260329T110000
DTEND;TZID=America/Vancouver:20260329T140000
DTSTAMP:20260423T113632
CREATED:20260312T164536Z
LAST-MODIFIED:20260319T231540Z
UID:1153-1774782000-1774792800@eristea.com
SUMMARY:VFW1956 - Spring Tea
DESCRIPTION:The VFW1956 Annual Spring Event is a time-honored gathering that brings together veterans\, families\, and community members to celebrate service\, unity\, and the spirit of renewal that spring represents. Hosted by the Veterans of Foreign Wars Post 1956\, this event serves as both a tribute to those who have served our country and a welcoming space for the community to connect\, reflect\, and engage. Through fellowship\, shared stories\, and meaningful activities\, the event honors the sacrifices of our veterans while strengthening the bonds that tie us together. \n\n\n\nWHY a Spring TeaThe purpose of the VFW1956 Annual Spring Event is to recognize and support veterans while fostering a sense of community pride and involvement. It aims to raise awareness of the ongoing needs of veterans\, provide resources and support to those who have served\, and create an inclusive environment where families and neighbors can come together in appreciation and gratitude. Additionally\, the event serves as an opportunity to build partnerships\, encourage volunteerism\, and ensure that the legacy of service continues to inspire future generations.
URL:https://eristea.com/event/vfw1956-spring-tea/
LOCATION:Monteleone Meadows\, 35245 Briggs Rd.\, Murrieta\, CA\, 92563\, United States
ATTACH;FMTTYPE=image/jpeg:https://eristea.com/wp-content/uploads/2026/03/Eristea-SpringTea-Event-scaled-e1773961177680.jpg
END:VEVENT
END:VCALENDAR