BEGIN:VCALENDAR
VERSION:2.0
PRODID:-//Eristea | Premium Loose Tea from around the world - ECPv6.13.2.1//NONSGML v1.0//EN
CALSCALE:GREGORIAN
METHOD:PUBLISH
X-WR-CALNAME:Eristea | Premium Loose Tea from around the world
X-ORIGINAL-URL:https://eristea.com
X-WR-CALDESC:Events for Eristea | Premium Loose Tea from around the world
REFRESH-INTERVAL;VALUE=DURATION:PT1H
X-Robots-Tag:noindex
X-PUBLISHED-TTL:PT1H
BEGIN:VTIMEZONE
TZID:America/Vancouver
BEGIN:DAYLIGHT
TZOFFSETFROM:-0800
TZOFFSETTO:-0700
TZNAME:PDT
DTSTART:20250309T100000
END:DAYLIGHT
BEGIN:STANDARD
TZOFFSETFROM:-0700
TZOFFSETTO:-0800
TZNAME:PST
DTSTART:20251102T090000
END:STANDARD
END:VTIMEZONE
BEGIN:VEVENT
DTSTART;TZID=America/Vancouver:20250725T170000
DTEND;TZID=America/Vancouver:20250725T180000
DTSTAMP:20260423T142112
CREATED:20250716T165737Z
LAST-MODIFIED:20250716T194720Z
UID:1089-1753462800-1753466400@eristea.com
SUMMARY:Tea Testers Table
DESCRIPTION:Brewed & Bloomed Mocktails \nJoin us at the Tea Tester’s Table for an evening of flavor\, aroma\, and discovery. Sip\, sample\, and vote on our newest infused tea selections before they hit the shelves.  \nThis month’s focus is artisan mocktail style teas sourced directly from select farmers around the globe. You will explore six new options.\nNote: Some teas will have some caffeine. \nYour back will directly influence which teas make it into our inventory. Come taste\, share your thoughts\, and be part of the process. \nSeats are limited so register now using the Eventbrite link in our bio or story. Attendees will receive a special gift. Attendance is required. \nRegister Now!
URL:https://eristea.com/event/tea-testers-table/
ATTACH;FMTTYPE=image/png:https://eristea.com/wp-content/uploads/2025/07/ET_Event_001.png
END:VEVENT
BEGIN:VEVENT
DTSTART;TZID=America/Vancouver:20250506T120000
DTEND;TZID=America/Vancouver:20250506T130000
DTSTAMP:20260423T142112
CREATED:20250501T231523Z
LAST-MODIFIED:20250501T235242Z
UID:1054-1746532800-1746536400@eristea.com
SUMMARY:Bridgerton Tea Party - Children's Event
DESCRIPTION:Blends\, Blooms & Brilliance\n\nJoin us for a FREE afternoon of tea\, tradition\, and fun\nPrize drawing!\nChild: Fancy Nancy book set\nAges: 6 – 12\nTheme: Bridgerton Tea Party \nChildren will sip on exquisite\, naturally crafted teas while learning about herbs and their delightful qualities.\nWith live demonstrations\, storytelling\, and interactive tastings\, this free event promises an unforgettable Bridgerton-style experience for the whole family! \n\nREGISTER TODAY!
URL:https://eristea.com/event/bridgerton-tea-party-childrens-event/
LOCATION:Menifee Library\, 28798 La Piedra Rd\, Menifee\, CA\, 92584\, United States
ATTACH;FMTTYPE=image/jpeg:https://eristea.com/wp-content/uploads/2025/05/vivek-kumar-aPonA9FkmfM-unsplash-scaled.jpg
END:VEVENT
BEGIN:VEVENT
DTSTART;TZID=America/Vancouver:20250506T103000
DTEND;TZID=America/Vancouver:20250506T113000
DTSTAMP:20260423T142112
CREATED:20250501T232406Z
LAST-MODIFIED:20250502T000448Z
UID:1060-1746527400-1746531000@eristea.com
SUMMARY:Bridgerton Tea Party - Seniors
DESCRIPTION:Blends\, Blooms & Brilliance\nJoin us for an FREE afternoon of tea\, tradition\, and fun\nYou are encourage you to bring your own china! Show it off!\nFriends of the Menifee Library are invited to our Bridgerton Tea Party \nSip on exquisite\, naturally crafted teas while learning about herbs and their delightful qualities.\nEnjoy a hands-on herbal mixing station\, creating your own unique blends.\nWith live demonstrations and interactive tastings\, this free event promises an unforgettable Bridgerton-style experience for our dear friends of the Menifee Library! \nREGISTER TODAY
URL:https://eristea.com/event/bridgerton-tea-party/
LOCATION:Menifee Library\, 28798 La Piedra Rd\, Menifee\, CA\, 92584\, United States
ATTACH;FMTTYPE=image/jpeg:https://eristea.com/wp-content/uploads/2025/05/vivek-kumar-aPonA9FkmfM-unsplash-scaled.jpg
END:VEVENT
BEGIN:VEVENT
DTSTART;TZID=America/Vancouver:20250423T163000
DTEND;TZID=America/Vancouver:20250423T173000
DTSTAMP:20260423T142112
CREATED:20250408T181144Z
LAST-MODIFIED:20260402T193125Z
UID:1018-1745425800-1745429400@eristea.com
SUMMARY:Grow Your Own Tea Garden
DESCRIPTION:FREE COMMUNITY EVENT\n\n\nIdeal For Kids Ages 6-12\nJoin us for a fun\, hands-on experience designed to educate and inspire young minds through the world of herbal tea. This family-friendly event blends nature\, wellness\, and learning in a relaxed and welcoming environment. \n\n\n\nWhat To Expect\n\n\n\n 	An engaging session on the benefits and traditions of herbal tea.\n 	A curated tea-smelling experience for parents and guardians\n 	A take-home pre-planted herb for each child to begin their tea garden\n\n\n\n\n\n\n\n\nAbout ErisTea\nEristea is a wellness-forward tea brand that provides high-quality\, sustainably grown loose-leaf teas that delight the senses and support overall well-being. Committed to education and community\, Eristea creates experiences\, connecting people to plants’ healing power and the cultural roots of tea traditions. \n\n\n\nSupplies Sponsored By “Roots of Conucos”\nA nonprofit organization dedicated to preserving ancestral agricultural practices and empowering communities through land-based learning.
URL:https://eristea.com/event/grow-your-own-tea-garden/
LOCATION:Murrieta Library Community Room\, 8 Town Square\, Murrieta\, California\, 92562\, United States
ATTACH;FMTTYPE=image/jpeg:https://eristea.com/wp-content/uploads/2025/04/ET-Earth-Day-Banner-1920x750-02-scaled.jpg
END:VEVENT
END:VCALENDAR