BEGIN:VCALENDAR
VERSION:2.0
PRODID:-//Eristea | Premium Loose Tea from around the world - ECPv6.13.2.1//NONSGML v1.0//EN
CALSCALE:GREGORIAN
METHOD:PUBLISH
X-WR-CALNAME:Eristea | Premium Loose Tea from around the world
X-ORIGINAL-URL:https://eristea.com
X-WR-CALDESC:Events for Eristea | Premium Loose Tea from around the world
REFRESH-INTERVAL;VALUE=DURATION:PT1H
X-Robots-Tag:noindex
X-PUBLISHED-TTL:PT1H
BEGIN:VTIMEZONE
TZID:America/Vancouver
BEGIN:DAYLIGHT
TZOFFSETFROM:-0800
TZOFFSETTO:-0700
TZNAME:PDT
DTSTART:20260308T100000
END:DAYLIGHT
BEGIN:STANDARD
TZOFFSETFROM:-0700
TZOFFSETTO:-0800
TZNAME:PST
DTSTART:20261101T090000
END:STANDARD
END:VTIMEZONE
BEGIN:VEVENT
DTSTART;TZID=America/Vancouver:20260411T100000
DTEND;TZID=America/Vancouver:20260411T113000
DTSTAMP:20260423T125953
CREATED:20260402T192555Z
LAST-MODIFIED:20260403T051737Z
UID:1177-1775901600-1775907000@eristea.com
SUMMARY:The Feel Good Store Tasting/Presentation
DESCRIPTION:We welcome you to a live tasting and presentation of Eristea teas at The Feel Good Store.  \n\n\n\nThe Feel Good Store\, is of the retail locations of the Eristea brand\, is a curated retail concept centered around holistic wellness\, sustainability\, and conscious living. Designed for modern consumers seeking balance\, the store offers a thoughtfully selected range of plant-based products that support both personal well-being and environmental responsibility. \n\n\n\nWith a focus on quality and purpose\, The Feel Good Store features organic CBD products\, eco-conscious goods\, and wellness-focused merchandise many of which are made in the USA and sourced with integrity. Each product is chosen not only for its benefits\, but for the story and impact behind it. \n\n\n\nRooted in a mission to inspire healthier lifestyles\, the store serves as more than a retail space\, it is a destination for individuals looking to reconnect with mindful living\, natural remedies\, and sustainable practices. Backed by decades of retail experience\, the concept was created to meet the growing demand for meaningful\, feel-good products that positively impact both people and the planet. \n\n\n\nAs part of the broader Eristea ecosystem\, The Feel Good Store complements a lifestyle centered on wellness\, education\, and community\, bringing together tea culture\, plant-based solutions\, and intentional living under one unified experience.
URL:https://eristea.com/event/feel-good-store-presentation/
END:VEVENT
BEGIN:VEVENT
DTSTART;TZID=America/Vancouver:20260412T003000
DTEND;TZID=America/Vancouver:20260412T163000
DTSTAMP:20260423T125953
CREATED:20260402T192824Z
LAST-MODIFIED:20260403T051703Z
UID:1180-1775953800-1776011400@eristea.com
SUMMARY:Cal Poly - Kellogg Arabian Horse Center Centennial Sunday Show
DESCRIPTION:Event Start: 12:30pmHorse Show: 2:00pm-3:00pmVendor Breakdown: 4:00pm-4:30pmLocation: Cal Poly PomonaReserve Your Ticket: https://www.eventbrite.com/e/centennial-celebration-sunday-horse-show-april-2026-tickets-1984910342266 \n\n\n\nPlease join us for a special centennial Sunday show! \n\n\n\nJoin our campus community as we celebrate 100 years of the histortic W.K. Kellogg Arabian Horse Center. Enjoy a fun\, family-friendly day with a range of activities\, music\, food\, vendors and upclose encounters with our magnificent horses. Space is limited\, reserve your tickets now!
URL:https://eristea.com/event/cal-poly-kellogg-arabian-horse-center-centennial-sunday-show/
LOCATION:WK Kellogg Arabian Horse Center Eucalyptus Ln\, Pomona\, CA 91768\, WK Kellogg Arabian Horse Center Eucalyptus Ln\, Pomona\, California\, 91768\, United States
END:VEVENT
BEGIN:VEVENT
DTSTART;TZID=America/Vancouver:20260425T103000
DTEND;TZID=America/Vancouver:20260425T150000
DTSTAMP:20260423T125953
CREATED:20260402T194412Z
LAST-MODIFIED:20260402T194414Z
UID:1193-1777113000-1777129200@eristea.com
SUMMARY:Cal Poly - Vendor showcase at the Market
DESCRIPTION:Come celebrate local flavor at the Cal Poly Vendor Showcase\, a vibrant gathering featuring the best artisans and student-made products from our campus and community. Enjoy a lively atmosphere filled with free samples\, unique shopping opportunities\, and the chance to meet the creators behind your favorite Central Coast brands!
URL:https://eristea.com/event/cal-poly-vendor-showcase-at-the-market/
END:VEVENT
END:VCALENDAR